BEGIN:VCALENDAR
VERSION:2.0
PRODID:-//SafeAbroad - ECPv6.15.1.1//NONSGML v1.0//EN
CALSCALE:GREGORIAN
METHOD:PUBLISH
X-WR-CALNAME:SafeAbroad
X-ORIGINAL-URL:https://safeabroad.com
X-WR-CALDESC:Events for SafeAbroad
REFRESH-INTERVAL;VALUE=DURATION:PT1H
X-Robots-Tag:noindex
X-PUBLISHED-TTL:PT1H
BEGIN:VTIMEZONE
TZID:America/New_York
BEGIN:DAYLIGHT
TZOFFSETFROM:-0500
TZOFFSETTO:-0400
TZNAME:EDT
DTSTART:20250309T070000
END:DAYLIGHT
BEGIN:STANDARD
TZOFFSETFROM:-0400
TZOFFSETTO:-0500
TZNAME:EST
DTSTART:20251102T060000
END:STANDARD
END:VTIMEZONE
BEGIN:VEVENT
DTSTART;TZID=America/New_York:20250604T143000
DTEND;TZID=America/New_York:20250604T150000
DTSTAMP:20260423T162242
CREATED:20250602T153332Z
LAST-MODIFIED:20250603T184337Z
UID:10367-1749047400-1749049200@safeabroad.com
SUMMARY:Monthly Briefing | June 2025
DESCRIPTION:Join us for the SafeAbroad Monthly Briefing from 2:30-3:00 PM ET! Our team of Analysts will give a presentation recapping this month’s major events! This meeting gives you the chance to ask your SafeAbroad Analyst about current and upcoming risks. This month\, SafeAbroad Analysts have highlighted key incidents worldwide\, with featured topics from around the world.
URL:https://safeabroad.com/event/monthly-briefing-june-2024/
CATEGORIES:Briefing
ATTACH;FMTTYPE=image/png:https://safeabroad.com/wp-content/uploads/2025/06/SA-monthly-brief-graphic.png
END:VEVENT
BEGIN:VEVENT
DTSTART;TZID=America/New_York:20250620T150000
DTEND;TZID=America/New_York:20250620T153000
DTSTAMP:20260423T162242
CREATED:20250513T011234Z
LAST-MODIFIED:20250513T204604Z
UID:10270-1750431600-1750433400@safeabroad.com
SUMMARY:Safety in Outdoor Adventures: Managing Risks in Study Abroad Excursions and Eco-Tourism
DESCRIPTION:Outdoor activities like hiking\, diving\, and adventure sports offer valuable experiences but also present unique safety risks. This webinar outlines best practices for managing these risks in study abroad and eco-tourism settings\, focusing on risk assessment\, emergency planning\, and student preparation to ensure safe and responsible participation. Learn how to strengthen your program’s ability to offer adventurous learning while prioritizing student well-being. \nRegistration is Required (Free)
URL:https://safeabroad.com/event/safety-in-outdoor-adventures-managing-risks-in-study-abroad-excursions-and-eco-tourism/
CATEGORIES:Webinar
ATTACH;FMTTYPE=image/jpeg:https://safeabroad.com/wp-content/uploads/2025/05/smiling-on-the-bus.jpg
END:VEVENT
END:VCALENDAR