BEGIN:VCALENDAR
VERSION:2.0
PRODID:-//SafeAbroad - ECPv6.15.1.1//NONSGML v1.0//EN
CALSCALE:GREGORIAN
METHOD:PUBLISH
X-ORIGINAL-URL:https://safeabroad.com
X-WR-CALDESC:Events for SafeAbroad
REFRESH-INTERVAL;VALUE=DURATION:PT1H
X-Robots-Tag:noindex
X-PUBLISHED-TTL:PT1H
BEGIN:VTIMEZONE
TZID:America/New_York
BEGIN:DAYLIGHT
TZOFFSETFROM:-0500
TZOFFSETTO:-0400
TZNAME:EDT
DTSTART:20250309T070000
END:DAYLIGHT
BEGIN:STANDARD
TZOFFSETFROM:-0400
TZOFFSETTO:-0500
TZNAME:EST
DTSTART:20251102T060000
END:STANDARD
END:VTIMEZONE
BEGIN:VEVENT
DTSTART;TZID=America/New_York:20250327T150000
DTEND;TZID=America/New_York:20250327T153000
DTSTAMP:20260423T072648
CREATED:20250318T203311Z
LAST-MODIFIED:20250318T211819Z
UID:10002-1743087600-1743089400@safeabroad.com
SUMMARY:Cybersecurity Abroad: Digital Safety in Foreign Environments
DESCRIPTION:In an increasingly connected world\, digital safety is a crucial component of study abroad programs. This webinar delves into the unique cybersecurity challenges travelers face in foreign environments\, offering practical advice for safeguarding personal and institutional data. Discover actionable best practices to protect against threats and ensure students’ online security while abroad. \nRegistration is Required
URL:https://safeabroad.com/event/cybersecurity-abroad-digital-safety-in-foreign-environments/
CATEGORIES:Webinar
ATTACH;FMTTYPE=image/jpeg:https://safeabroad.com/wp-content/uploads/2025/03/pexels-photo-5771198-5771198-1.jpg
END:VEVENT
END:VCALENDAR