BEGIN:VCALENDAR
VERSION:2.0
PRODID:-//SafeAbroad - ECPv6.15.1.1//NONSGML v1.0//EN
CALSCALE:GREGORIAN
METHOD:PUBLISH
X-ORIGINAL-URL:https://safeabroad.com
X-WR-CALDESC:Events for SafeAbroad
REFRESH-INTERVAL;VALUE=DURATION:PT1H
X-Robots-Tag:noindex
X-PUBLISHED-TTL:PT1H
BEGIN:VTIMEZONE
TZID:America/New_York
BEGIN:DAYLIGHT
TZOFFSETFROM:-0500
TZOFFSETTO:-0400
TZNAME:EDT
DTSTART:20260308T070000
END:DAYLIGHT
BEGIN:STANDARD
TZOFFSETFROM:-0400
TZOFFSETTO:-0500
TZNAME:EST
DTSTART:20261101T060000
END:STANDARD
END:VTIMEZONE
BEGIN:VEVENT
DTSTART;TZID=America/New_York:20260220T120000
DTEND;TZID=America/New_York:20260220T123000
DTSTAMP:20260423T075317
CREATED:20251220T163922Z
LAST-MODIFIED:20260109T183554Z
UID:11813-1771588800-1771590600@safeabroad.com
SUMMARY:The New Fraud Landscape Abroad: Financial Scams\, AI Deepfakes\, & Digital Threats
DESCRIPTION:Financial fraud and digital deception targeting students abroad are evolving faster than ever. Today’s global travelers face not only traditional scams—such as housing fraud\, SIM card traps\, ATM skimming\, and cashless payment pitfalls—but also a rising wave of AI-generated impersonation attacks\, deepfake communications\, and fraudulent digital messages that appear to come from universities\, immigration authorities\, or program staff. Join SafeAbroad for a session on the new global scam ecosystem impacting study abroad students. \nRegistration is required (free). 
URL:https://safeabroad.com/event/the-new-fraud-landscape-abroad/
CATEGORIES:Webinar
ATTACH;FMTTYPE=image/png:https://safeabroad.com/wp-content/uploads/2025/12/Feb26-Webinar.png
END:VEVENT
END:VCALENDAR