BEGIN:VCALENDAR
VERSION:2.0
PRODID:-//SafeAbroad - ECPv6.15.1.1//NONSGML v1.0//EN
CALSCALE:GREGORIAN
METHOD:PUBLISH
X-WR-CALNAME:SafeAbroad
X-ORIGINAL-URL:https://safeabroad.com
X-WR-CALDESC:Events for SafeAbroad
REFRESH-INTERVAL;VALUE=DURATION:PT1H
X-Robots-Tag:noindex
X-PUBLISHED-TTL:PT1H
BEGIN:VTIMEZONE
TZID:America/New_York
BEGIN:DAYLIGHT
TZOFFSETFROM:-0500
TZOFFSETTO:-0400
TZNAME:EDT
DTSTART:20250309T070000
END:DAYLIGHT
BEGIN:STANDARD
TZOFFSETFROM:-0400
TZOFFSETTO:-0500
TZNAME:EST
DTSTART:20251102T060000
END:STANDARD
END:VTIMEZONE
BEGIN:VEVENT
DTSTART;TZID=America/New_York:20251024T120000
DTEND;TZID=America/New_York:20251024T123000
DTSTAMP:20260423T135924
CREATED:20250606T182022Z
LAST-MODIFIED:20250629T143733Z
UID:10437-1761307200-1761309000@safeabroad.com
SUMMARY:Food\, Water\, and Local Health: Staying Safe Without Missing the Cultural Experience
DESCRIPTION:Balancing health safety with meaningful cultural immersion is a key challenge in study abroad\, particularly when it comes to food\, water\, and access to local healthcare. This session explores how to prepare students for safe\, respectful engagement with local environments while minimizing health risks. Gain actionable insights to support student well-being without compromising the richness of cross-cultural experiences. \nRegistration is Required (Free)
URL:https://safeabroad.com/event/food-water-and-local-health-staying-safe-without-missing-the-cultural-experience/
CATEGORIES:Webinar
ATTACH;FMTTYPE=image/png:https://safeabroad.com/wp-content/uploads/2025/06/Safe-Abroad-Webinar-October-24-1.png
END:VEVENT
END:VCALENDAR