BEGIN:VCALENDAR
VERSION:2.0
PRODID:-//SafeAbroad - ECPv6.15.1.1//NONSGML v1.0//EN
CALSCALE:GREGORIAN
METHOD:PUBLISH
X-ORIGINAL-URL:https://safeabroad.com
X-WR-CALDESC:Events for SafeAbroad
REFRESH-INTERVAL;VALUE=DURATION:PT1H
X-Robots-Tag:noindex
X-PUBLISHED-TTL:PT1H
BEGIN:VTIMEZONE
TZID:America/New_York
BEGIN:DAYLIGHT
TZOFFSETFROM:-0500
TZOFFSETTO:-0400
TZNAME:EDT
DTSTART:20250309T070000
END:DAYLIGHT
BEGIN:STANDARD
TZOFFSETFROM:-0400
TZOFFSETTO:-0500
TZNAME:EST
DTSTART:20251102T060000
END:STANDARD
END:VTIMEZONE
BEGIN:VEVENT
DTSTART;TZID=America/New_York:20250822T120000
DTEND;TZID=America/New_York:20250822T123000
DTSTAMP:20260423T165021
CREATED:20250606T175809Z
LAST-MODIFIED:20250629T143339Z
UID:10429-1755864000-1755865800@safeabroad.com
SUMMARY:LGBTQ+ Safety Abroad: Supporting Students in Environments with Restrictive Laws and Norms
DESCRIPTION:Supporting LGBTQ+ students abroad requires culturally aware guidance and proactive planning. This webinar empowers study abroad professionals with the tools to navigate destination-specific challenges\, address safety concerns\, and uphold students’ dignity\, privacy\, and protection. Learn how to foster inclusive\, informed support systems that help LGBTQ+ travelers thrive while studying abroad. \nRegistration is Required (Free)
URL:https://safeabroad.com/event/lgbtq-safety-abroad-supporting-students-in-environments-with-restrictive-laws-and-norms/
CATEGORIES:Webinar
ATTACH;FMTTYPE=image/png:https://safeabroad.com/wp-content/uploads/2025/06/Safe-Abroad-Webinar-August-22-1.png
END:VEVENT
END:VCALENDAR