BEGIN:VCALENDAR
VERSION:2.0
PRODID:-//SafeAbroad - ECPv6.15.1.1//NONSGML v1.0//EN
CALSCALE:GREGORIAN
METHOD:PUBLISH
X-WR-CALNAME:SafeAbroad
X-ORIGINAL-URL:https://safeabroad.com
X-WR-CALDESC:Events for SafeAbroad
REFRESH-INTERVAL;VALUE=DURATION:PT1H
X-Robots-Tag:noindex
X-PUBLISHED-TTL:PT1H
BEGIN:VTIMEZONE
TZID:America/New_York
BEGIN:DAYLIGHT
TZOFFSETFROM:-0500
TZOFFSETTO:-0400
TZNAME:EDT
DTSTART:20250309T070000
END:DAYLIGHT
BEGIN:STANDARD
TZOFFSETFROM:-0400
TZOFFSETTO:-0500
TZNAME:EST
DTSTART:20251102T060000
END:STANDARD
BEGIN:DAYLIGHT
TZOFFSETFROM:-0500
TZOFFSETTO:-0400
TZNAME:EDT
DTSTART:20260308T070000
END:DAYLIGHT
BEGIN:STANDARD
TZOFFSETFROM:-0400
TZOFFSETTO:-0500
TZNAME:EST
DTSTART:20261101T060000
END:STANDARD
END:VTIMEZONE
BEGIN:VEVENT
DTSTART;TZID=America/New_York:20260401T143000
DTEND;TZID=America/New_York:20260401T150000
DTSTAMP:20260423T035343
CREATED:20251106T181007Z
LAST-MODIFIED:20251106T181007Z
UID:11428-1775053800-1775055600@safeabroad.com
SUMMARY:Monthly Briefing | April 2026
DESCRIPTION:Join us for the SafeAbroad Monthly Briefing from 2:30-3:00 PM ET! Our team of analysts will give a presentation recapping this month’s major events! This meeting gives you the chance to ask your SafeAbroad analyst about current and upcoming risks. This month\, SafeAbroad analysts have highlighted key incidents worldwide\, with featured topics from around the world.
URL:https://safeabroad.com/event/monthly-briefing-april-2026/
CATEGORIES:Briefing
ATTACH;FMTTYPE=image/png:https://safeabroad.com/wp-content/uploads/2025/06/SA-monthly-brief-graphic.png
END:VEVENT
BEGIN:VEVENT
DTSTART;TZID=America/New_York:20260304T143000
DTEND;TZID=America/New_York:20260304T150000
DTSTAMP:20260423T035343
CREATED:20251106T180702Z
LAST-MODIFIED:20251106T180702Z
UID:11425-1772634600-1772636400@safeabroad.com
SUMMARY:Monthly Briefing | March 2026
DESCRIPTION:Join us for the SafeAbroad Monthly Briefing from 2:30-3:00 PM ET! Our team of analysts will give a presentation recapping this month’s major events! This meeting gives you the chance to ask your SafeAbroad analyst about current and upcoming risks. This month\, SafeAbroad analysts have highlighted key incidents worldwide\, with featured topics from around the world.
URL:https://safeabroad.com/event/monthly-briefing-march-2026/
CATEGORIES:Briefing
ATTACH;FMTTYPE=image/png:https://safeabroad.com/wp-content/uploads/2025/06/SA-monthly-brief-graphic.png
END:VEVENT
BEGIN:VEVENT
DTSTART;TZID=America/New_York:20260204T143000
DTEND;TZID=America/New_York:20260204T150000
DTSTAMP:20260423T035343
CREATED:20251106T180317Z
LAST-MODIFIED:20251106T180729Z
UID:11422-1770215400-1770217200@safeabroad.com
SUMMARY:Monthly Briefing | February 2026
DESCRIPTION:Join us for the SafeAbroad Monthly Briefing from 2:30-3:00 PM ET! Our team of analysts will give a presentation recapping this month’s major events! This meeting gives you the chance to ask your SafeAbroad analyst about current and upcoming risks. This month\, SafeAbroad analysts have highlighted key incidents worldwide\, with featured topics from around the world.
URL:https://safeabroad.com/event/monthly-briefing-february-2026/
CATEGORIES:Briefing
ATTACH;FMTTYPE=image/png:https://safeabroad.com/wp-content/uploads/2025/06/SA-monthly-brief-graphic.png
END:VEVENT
BEGIN:VEVENT
DTSTART;TZID=America/New_York:20260107T143000
DTEND;TZID=America/New_York:20260107T150000
DTSTAMP:20260423T035344
CREATED:20251106T180106Z
LAST-MODIFIED:20251106T180446Z
UID:11420-1767796200-1767798000@safeabroad.com
SUMMARY:Monthly Briefing | January 2026
DESCRIPTION:Join us for the SafeAbroad Monthly Briefing from 2:30-3:00 PM ET! Our team of analysts will give a presentation recapping this month’s major events! This meeting gives you the chance to ask your SafeAbroad analyst about current and upcoming risks. This month\, SafeAbroad analysts have highlighted key incidents worldwide\, with featured topics from around the world.
URL:https://safeabroad.com/event/monthly-briefing-january-2026/
CATEGORIES:Briefing
ATTACH;FMTTYPE=image/png:https://safeabroad.com/wp-content/uploads/2025/06/SA-monthly-brief-graphic.png
END:VEVENT
BEGIN:VEVENT
DTSTART;TZID=America/New_York:20251203T143000
DTEND;TZID=America/New_York:20251203T150000
DTSTAMP:20260423T035344
CREATED:20250604T182715Z
LAST-MODIFIED:20250604T182715Z
UID:10414-1764772200-1764774000@safeabroad.com
SUMMARY:Monthly Briefing | December 2025
DESCRIPTION:Join us for the SafeAbroad Monthly Briefing from 2:30-3:00 PM ET! Our team of Analysts will give a presentation recapping this month’s major events! This meeting gives you the chance to ask your SafeAbroad Analyst about current and upcoming risks. This month\, SafeAbroad Analysts have highlighted key incidents worldwide\, with featured topics from around the world.
URL:https://safeabroad.com/event/monthly-briefing-december-2025/
CATEGORIES:Briefing
ATTACH;FMTTYPE=image/png:https://safeabroad.com/wp-content/uploads/2025/06/SA-monthly-brief-graphic.png
END:VEVENT
BEGIN:VEVENT
DTSTART;TZID=America/New_York:20251105T143000
DTEND;TZID=America/New_York:20251105T150000
DTSTAMP:20260423T035344
CREATED:20250604T182600Z
LAST-MODIFIED:20250604T182600Z
UID:10412-1762353000-1762354800@safeabroad.com
SUMMARY:Monthly Briefing | November 2025
DESCRIPTION:Join us for the SafeAbroad Monthly Briefing from 2:30-3:00 PM ET! Our team of Analysts will give a presentation recapping this month’s major events! This meeting gives you the chance to ask your SafeAbroad Analyst about current and upcoming risks. This month\, SafeAbroad Analysts have highlighted key incidents worldwide\, with featured topics from around the world.
URL:https://safeabroad.com/event/monthly-briefing-november-2025/
CATEGORIES:Briefing
ATTACH;FMTTYPE=image/png:https://safeabroad.com/wp-content/uploads/2025/06/SA-monthly-brief-graphic.png
END:VEVENT
BEGIN:VEVENT
DTSTART;TZID=America/New_York:20251001T143000
DTEND;TZID=America/New_York:20251001T150000
DTSTAMP:20260423T035344
CREATED:20250604T182427Z
LAST-MODIFIED:20250604T182427Z
UID:10410-1759329000-1759330800@safeabroad.com
SUMMARY:Monthly Briefing | October 2025
DESCRIPTION:Join us for the SafeAbroad Monthly Briefing from 2:30-3:00 PM ET! Our team of Analysts will give a presentation recapping this month’s major events! This meeting gives you the chance to ask your SafeAbroad Analyst about current and upcoming risks. This month\, SafeAbroad Analysts have highlighted key incidents worldwide\, with featured topics from around the world.
URL:https://safeabroad.com/event/monthly-briefing-october-2025/
CATEGORIES:Briefing
ATTACH;FMTTYPE=image/png:https://safeabroad.com/wp-content/uploads/2025/06/SA-monthly-brief-graphic.png
END:VEVENT
BEGIN:VEVENT
DTSTART;TZID=America/New_York:20250903T143000
DTEND;TZID=America/New_York:20250903T150000
DTSTAMP:20260423T035344
CREATED:20250604T182023Z
LAST-MODIFIED:20250604T182023Z
UID:10408-1756909800-1756911600@safeabroad.com
SUMMARY:Monthly Briefing | September 2025
DESCRIPTION:Join us for the SafeAbroad Monthly Briefing from 2:30-3:00 PM ET! Our team of Analysts will give a presentation recapping this month’s major events! This meeting gives you the chance to ask your SafeAbroad Analyst about current and upcoming risks. This month\, SafeAbroad Analysts have highlighted key incidents worldwide\, with featured topics from around the world.
URL:https://safeabroad.com/event/monthly-briefing-september-2025/
CATEGORIES:Briefing
ATTACH;FMTTYPE=image/png:https://safeabroad.com/wp-content/uploads/2025/06/SA-monthly-brief-graphic.png
END:VEVENT
BEGIN:VEVENT
DTSTART;TZID=America/New_York:20250806T143000
DTEND;TZID=America/New_York:20250806T150000
DTSTAMP:20260423T035344
CREATED:20250604T181818Z
LAST-MODIFIED:20250604T181818Z
UID:10406-1754490600-1754492400@safeabroad.com
SUMMARY:Monthly Briefing | August 2025
DESCRIPTION:Join us for the SafeAbroad Monthly Briefing from 2:30-3:00 PM ET! Our team of Analysts will give a presentation recapping this month’s major events! This meeting gives you the chance to ask your SafeAbroad Analyst about current and upcoming risks. This month\, SafeAbroad Analysts have highlighted key incidents worldwide\, with featured topics from around the world.
URL:https://safeabroad.com/event/monthly-briefing-august-2025/
CATEGORIES:Briefing
ATTACH;FMTTYPE=image/png:https://safeabroad.com/wp-content/uploads/2025/06/SA-monthly-brief-graphic.png
END:VEVENT
BEGIN:VEVENT
DTSTART;TZID=America/New_York:20250702T143000
DTEND;TZID=America/New_York:20250702T150000
DTSTAMP:20260423T035344
CREATED:20250604T181428Z
LAST-MODIFIED:20250604T181428Z
UID:10401-1751466600-1751468400@safeabroad.com
SUMMARY:Monthly Briefing | July 2025
DESCRIPTION:Join us for the SafeAbroad Monthly Briefing from 2:30-3:00 PM ET! Our team of Analysts will give a presentation recapping this month’s major events! This meeting gives you the chance to ask your SafeAbroad Analyst about current and upcoming risks. This month\, SafeAbroad Analysts have highlighted key incidents worldwide\, with featured topics from around the world.
URL:https://safeabroad.com/event/monthly-briefing-july-2025/
CATEGORIES:Briefing
ATTACH;FMTTYPE=image/png:https://safeabroad.com/wp-content/uploads/2025/06/SA-monthly-brief-graphic.png
END:VEVENT
BEGIN:VEVENT
DTSTART;TZID=America/New_York:20250604T143000
DTEND;TZID=America/New_York:20250604T150000
DTSTAMP:20260423T035344
CREATED:20250602T153332Z
LAST-MODIFIED:20250603T184337Z
UID:10367-1749047400-1749049200@safeabroad.com
SUMMARY:Monthly Briefing | June 2025
DESCRIPTION:Join us for the SafeAbroad Monthly Briefing from 2:30-3:00 PM ET! Our team of Analysts will give a presentation recapping this month’s major events! This meeting gives you the chance to ask your SafeAbroad Analyst about current and upcoming risks. This month\, SafeAbroad Analysts have highlighted key incidents worldwide\, with featured topics from around the world.
URL:https://safeabroad.com/event/monthly-briefing-june-2024/
CATEGORIES:Briefing
ATTACH;FMTTYPE=image/png:https://safeabroad.com/wp-content/uploads/2025/06/SA-monthly-brief-graphic.png
END:VEVENT
END:VCALENDAR