BEGIN:VCALENDAR
VERSION:2.0
PRODID:-//SafeAbroad - ECPv6.15.1.1//NONSGML v1.0//EN
CALSCALE:GREGORIAN
METHOD:PUBLISH
X-WR-CALNAME:SafeAbroad
X-ORIGINAL-URL:https://safeabroad.com
X-WR-CALDESC:Events for SafeAbroad
REFRESH-INTERVAL;VALUE=DURATION:PT1H
X-Robots-Tag:noindex
X-PUBLISHED-TTL:PT1H
BEGIN:VTIMEZONE
TZID:America/New_York
BEGIN:DAYLIGHT
TZOFFSETFROM:-0500
TZOFFSETTO:-0400
TZNAME:EDT
DTSTART:20260308T070000
END:DAYLIGHT
BEGIN:STANDARD
TZOFFSETFROM:-0400
TZOFFSETTO:-0500
TZNAME:EST
DTSTART:20261101T060000
END:STANDARD
END:VTIMEZONE
BEGIN:VEVENT
DTSTART;TZID=America/New_York:20260506T143000
DTEND;TZID=America/New_York:20260506T150000
DTSTAMP:20260422T220952
CREATED:20251106T181150Z
LAST-MODIFIED:20251106T181150Z
UID:11431-1778077800-1778079600@safeabroad.com
SUMMARY:Monthly Briefing | May 2026
DESCRIPTION:Join us for the SafeAbroad Monthly Briefing from 2:30-3:00 PM ET! Our team of analysts will give a presentation recapping this month’s major events! This meeting gives you the chance to ask your SafeAbroad analyst about current and upcoming risks. This month\, SafeAbroad analysts have highlighted key incidents worldwide\, with featured topics from around the world.
URL:https://safeabroad.com/event/monthly-briefing-may-2026/
CATEGORIES:Briefing
ATTACH;FMTTYPE=image/png:https://safeabroad.com/wp-content/uploads/2025/06/SA-monthly-brief-graphic.png
END:VEVENT
BEGIN:VEVENT
DTSTART;TZID=America/New_York:20260603T143000
DTEND;TZID=America/New_York:20260603T150000
DTSTAMP:20260422T220952
CREATED:20251106T181400Z
LAST-MODIFIED:20251106T181400Z
UID:11433-1780497000-1780498800@safeabroad.com
SUMMARY:Monthly Briefing | June 2026
DESCRIPTION:Join us for the SafeAbroad Monthly Briefing from 2:30-3:00 PM ET! Our team of analysts will give a presentation recapping this month’s major events! This meeting gives you the chance to ask your SafeAbroad analyst about current and upcoming risks. This month\, SafeAbroad analysts have highlighted key incidents worldwide\, with featured topics from around the world.
URL:https://safeabroad.com/event/monthly-briefing-june-2026/
CATEGORIES:Briefing
ATTACH;FMTTYPE=image/png:https://safeabroad.com/wp-content/uploads/2025/06/SA-monthly-brief-graphic.png
END:VEVENT
BEGIN:VEVENT
DTSTART;TZID=America/New_York:20260701T143000
DTEND;TZID=America/New_York:20260701T150000
DTSTAMP:20260422T220952
CREATED:20251106T181533Z
LAST-MODIFIED:20251106T181533Z
UID:11435-1782916200-1782918000@safeabroad.com
SUMMARY:Monthly Briefing | July 2026
DESCRIPTION:Join us for the SafeAbroad Monthly Briefing from 2:30-3:00 PM ET! Our team of analysts will give a presentation recapping this month’s major events! This meeting gives you the chance to ask your SafeAbroad analyst about current and upcoming risks. This month\, SafeAbroad analysts have highlighted key incidents worldwide\, with featured topics from around the world.
URL:https://safeabroad.com/event/monthly-briefing-july-2026/
CATEGORIES:Briefing
ATTACH;FMTTYPE=image/png:https://safeabroad.com/wp-content/uploads/2025/06/SA-monthly-brief-graphic.png
END:VEVENT
BEGIN:VEVENT
DTSTART;TZID=America/New_York:20260805T143000
DTEND;TZID=America/New_York:20260805T150000
DTSTAMP:20260422T220952
CREATED:20251106T181759Z
LAST-MODIFIED:20251106T181759Z
UID:11438-1785940200-1785942000@safeabroad.com
SUMMARY:Monthly Briefing | August 2026
DESCRIPTION:Join us for the SafeAbroad Monthly Briefing from 2:30-3:00 PM ET! Our team of analysts will give a presentation recapping this month’s major events! This meeting gives you the chance to ask your SafeAbroad analyst about current and upcoming risks. This month\, SafeAbroad analysts have highlighted key incidents worldwide\, with featured topics from around the world.
URL:https://safeabroad.com/event/monthly-briefing-aug-26/
CATEGORIES:Briefing
ATTACH;FMTTYPE=image/png:https://safeabroad.com/wp-content/uploads/2025/06/SA-monthly-brief-graphic.png
END:VEVENT
BEGIN:VEVENT
DTSTART;TZID=America/New_York:20260902T143000
DTEND;TZID=America/New_York:20260902T150000
DTSTAMP:20260422T220952
CREATED:20251106T181921Z
LAST-MODIFIED:20251106T181921Z
UID:11441-1788359400-1788361200@safeabroad.com
SUMMARY:Monthly Briefing | September 2026
DESCRIPTION:Join us for the SafeAbroad Monthly Briefing from 2:30-3:00 PM ET! Our team of analysts will give a presentation recapping this month’s major events! This meeting gives you the chance to ask your SafeAbroad analyst about current and upcoming risks. This month\, SafeAbroad analysts have highlighted key incidents worldwide\, with featured topics from around the world.
URL:https://safeabroad.com/event/monthly-briefing-september-2026/
CATEGORIES:Briefing
ATTACH;FMTTYPE=image/png:https://safeabroad.com/wp-content/uploads/2025/06/SA-monthly-brief-graphic.png
END:VEVENT
BEGIN:VEVENT
DTSTART;TZID=America/New_York:20261007T143000
DTEND;TZID=America/New_York:20261007T150000
DTSTAMP:20260422T220952
CREATED:20251106T182053Z
LAST-MODIFIED:20251106T182053Z
UID:11444-1791383400-1791385200@safeabroad.com
SUMMARY:Monthly Briefing | October 2026
DESCRIPTION:Join us for the SafeAbroad Monthly Briefing from 2:30-3:00 PM ET! Our team of analysts will give a presentation recapping this month’s major events! This meeting gives you the chance to ask your SafeAbroad analyst about current and upcoming risks. This month\, SafeAbroad analysts have highlighted key incidents worldwide\, with featured topics from around the world.
URL:https://safeabroad.com/event/monthly-briefing-october-2026/
CATEGORIES:Briefing
ATTACH;FMTTYPE=image/png:https://safeabroad.com/wp-content/uploads/2025/06/SA-monthly-brief-graphic.png
END:VEVENT
BEGIN:VEVENT
DTSTART;TZID=America/New_York:20261104T143000
DTEND;TZID=America/New_York:20261104T150000
DTSTAMP:20260422T220952
CREATED:20251106T182218Z
LAST-MODIFIED:20251106T182218Z
UID:11446-1793802600-1793804400@safeabroad.com
SUMMARY:Monthly Briefing | November 2026
DESCRIPTION:Join us for the SafeAbroad Monthly Briefing from 2:30-3:00 PM ET! Our team of analysts will give a presentation recapping this month’s major events! This meeting gives you the chance to ask your SafeAbroad analyst about current and upcoming risks. This month\, SafeAbroad analysts have highlighted key incidents worldwide\, with featured topics from around the world.
URL:https://safeabroad.com/event/monthly-briefing-november-2026/
CATEGORIES:Briefing
ATTACH;FMTTYPE=image/png:https://safeabroad.com/wp-content/uploads/2025/06/SA-monthly-brief-graphic.png
END:VEVENT
BEGIN:VEVENT
DTSTART;TZID=America/New_York:20261202T143000
DTEND;TZID=America/New_York:20261202T150000
DTSTAMP:20260422T220952
CREATED:20251106T182445Z
LAST-MODIFIED:20251106T182445Z
UID:11448-1796221800-1796223600@safeabroad.com
SUMMARY:Monthly Briefing | December 2026
DESCRIPTION:Join us for the SafeAbroad Monthly Briefing from 2:30-3:00 PM ET! Our team of analysts will give a presentation recapping this month’s major events! This meeting gives you the chance to ask your SafeAbroad analyst about current and upcoming risks. This month\, SafeAbroad analysts have highlighted key incidents worldwide\, with featured topics from around the world.
URL:https://safeabroad.com/event/monthly-briefing-december-2026/
CATEGORIES:Briefing
ATTACH;FMTTYPE=image/png:https://safeabroad.com/wp-content/uploads/2025/06/SA-monthly-brief-graphic.png
END:VEVENT
END:VCALENDAR